BEGIN:VCALENDAR
VERSION:2.0
PRODID:-//City of Rehoboth Beach - ECPv6.15.12.2//NONSGML v1.0//EN
CALSCALE:GREGORIAN
METHOD:PUBLISH
X-ORIGINAL-URL:https://www.rehobothbeachde.gov
X-WR-CALDESC:Events for City of Rehoboth Beach
REFRESH-INTERVAL;VALUE=DURATION:PT1H
X-Robots-Tag:noindex
X-PUBLISHED-TTL:PT1H
BEGIN:VTIMEZONE
TZID:America/New_York
BEGIN:DAYLIGHT
TZOFFSETFROM:-0500
TZOFFSETTO:-0400
TZNAME:EDT
DTSTART:20250309T070000
END:DAYLIGHT
BEGIN:STANDARD
TZOFFSETFROM:-0400
TZOFFSETTO:-0500
TZNAME:EST
DTSTART:20251102T060000
END:STANDARD
BEGIN:DAYLIGHT
TZOFFSETFROM:-0500
TZOFFSETTO:-0400
TZNAME:EDT
DTSTART:20260308T070000
END:DAYLIGHT
BEGIN:STANDARD
TZOFFSETFROM:-0400
TZOFFSETTO:-0500
TZNAME:EST
DTSTART:20261101T060000
END:STANDARD
BEGIN:DAYLIGHT
TZOFFSETFROM:-0500
TZOFFSETTO:-0400
TZNAME:EDT
DTSTART:20270314T070000
END:DAYLIGHT
BEGIN:STANDARD
TZOFFSETFROM:-0400
TZOFFSETTO:-0500
TZNAME:EST
DTSTART:20271107T060000
END:STANDARD
END:VTIMEZONE
BEGIN:VEVENT
DTSTART;TZID=America/New_York:20260809T083000
DTEND;TZID=America/New_York:20260809T083000
DTSTAMP:20260423T105537
CREATED:20260310T151114Z
LAST-MODIFIED:20260310T151114Z
UID:10001006-1786264200-1786264200@www.rehobothbeachde.gov
SUMMARY:Beach Church Service
DESCRIPTION:New Covenant Church is hosting a sunrise church service every Sunday from June to September
URL:https://www.rehobothbeachde.gov/event/beach-church-service/2026-08-09/
LOCATION:Beach
CATEGORIES:City Permitted Public Event
END:VEVENT
BEGIN:VEVENT
DTSTART;TZID=America/New_York:20260809T200000
DTEND;TZID=America/New_York:20260809T211500
DTSTAMP:20260423T105537
CREATED:20260422T152932Z
LAST-MODIFIED:20260422T152932Z
UID:10001076-1786305600-1786310100@www.rehobothbeachde.gov
SUMMARY:Summer Concert Series: The Brit Pack - British Invasion & More
DESCRIPTION:The Rehoboth Beach Summer Concert Series takes place every weekend from 8-9:15 pm at the Bandstand. Entry is free and open to the public. Performers are subject to change\, and the concert can be cancelled due to weather\, check the Bandstand site or social media for the latest details.
URL:https://www.rehobothbeachde.gov/event/summer-concert-series-the-brit-pack-british-invasion-more/
LOCATION:Bandstand\, DE
CATEGORIES:Summer Concert Series
GEO:38.71662785;-75.076529236189
END:VEVENT
BEGIN:VEVENT
DTSTART;TZID=America/New_York:20260810T090000
DTEND;TZID=America/New_York:20260810T090000
DTSTAMP:20260423T105537
CREATED:20251010T174215Z
LAST-MODIFIED:20251230T181544Z
UID:10000722-1786352400-1786352400@www.rehobothbeachde.gov
SUMMARY:Commissioners Meeting - 10 Aug 2026 (formerly Mayor & Commissioners Workshop Meeting)
DESCRIPTION:**Formerly Workshop Meeting\, Commissioners Meeting allows for voting if topic is described as such.
URL:https://www.rehobothbeachde.gov/event/mayor-commissioners-workshop-meeting-10-aug-2026/
LOCATION:City Hall Commissioners Room\, 2nd Floor\, 229 Rehoboth Avenue\, Rehoboth Beach\, DE\, 19971\, United States
CATEGORIES:City Meeting
GEO:43.8659735;-95.1169604
X-APPLE-STRUCTURED-LOCATION;VALUE=URI;X-ADDRESS=City Hall Commissioners Room 2nd Floor 229 Rehoboth Avenue Rehoboth Beach DE 19971 United States;X-APPLE-RADIUS=500;X-TITLE=229 Rehoboth Avenue:geo:-95.1169604,43.8659735
END:VEVENT
BEGIN:VEVENT
DTSTART;TZID=America/New_York:20260811T100000
DTEND;TZID=America/New_York:20260811T140000
DTSTAMP:20260423T105537
CREATED:20260213T165305Z
LAST-MODIFIED:20260413T165110Z
UID:10001036-1786442400-1786456800@www.rehobothbeachde.gov
SUMMARY:Rehoboth Beach Farmers Market
DESCRIPTION:Every Tuesday rain or shine\, the Rehoboth Beach Farmers Market at Grove Park offers a variety of fresh food\, local produce\, flowers\, handmade goods\, and more from local sellers in our community.
URL:https://www.rehobothbeachde.gov/event/rehoboth-beach-farmers-market-2/2026-08-11/
LOCATION:Grove Park
CATEGORIES:City Park,City Permitted Public Event
END:VEVENT
BEGIN:VEVENT
DTSTART;TZID=America/New_York:20260814T200000
DTEND;TZID=America/New_York:20260814T211500
DTSTAMP:20260423T105537
CREATED:20260422T153124Z
LAST-MODIFIED:20260422T153124Z
UID:10001077-1786737600-1786742100@www.rehobothbeachde.gov
SUMMARY:Summer Concert Series: US Army Field Band (Ensemble)
DESCRIPTION:The Rehoboth Beach Summer Concert Series takes place every weekend from 8-9:15 pm at the Bandstand. Entry is free and open to the public. Performers are subject to change\, and the concert can be cancelled due to weather\, check the Bandstand site or social media for the latest details.
URL:https://www.rehobothbeachde.gov/event/summer-concert-series-us-army-field-band-ensemble/
LOCATION:Bandstand\, DE
CATEGORIES:Summer Concert Series
GEO:38.71662785;-75.076529236189
END:VEVENT
BEGIN:VEVENT
DTSTART;TZID=America/New_York:20260815T200000
DTEND;TZID=America/New_York:20260815T211500
DTSTAMP:20260423T105537
CREATED:20260422T153214Z
LAST-MODIFIED:20260422T153214Z
UID:10001078-1786824000-1786828500@www.rehobothbeachde.gov
SUMMARY:Summer Concert Series: Sugar Mountain - Neil Young Tribute
DESCRIPTION:The Rehoboth Beach Summer Concert Series takes place every weekend from 8-9:15 pm at the Bandstand. Entry is free and open to the public. Performers are subject to change\, and the concert can be cancelled due to weather\, check the Bandstand site or social media for the latest details.
URL:https://www.rehobothbeachde.gov/event/summer-concert-series-sugar-mountain-neil-young-tribute/
LOCATION:Bandstand\, DE
CATEGORIES:Summer Concert Series
GEO:38.71662785;-75.076529236189
END:VEVENT
BEGIN:VEVENT
DTSTART;TZID=America/New_York:20260816T083000
DTEND;TZID=America/New_York:20260816T083000
DTSTAMP:20260423T105537
CREATED:20260310T151114Z
LAST-MODIFIED:20260310T151114Z
UID:10001007-1786869000-1786869000@www.rehobothbeachde.gov
SUMMARY:Beach Church Service
DESCRIPTION:New Covenant Church is hosting a sunrise church service every Sunday from June to September
URL:https://www.rehobothbeachde.gov/event/beach-church-service/2026-08-16/
LOCATION:Beach
CATEGORIES:City Permitted Public Event
END:VEVENT
BEGIN:VEVENT
DTSTART;TZID=America/New_York:20260816T200000
DTEND;TZID=America/New_York:20260816T211500
DTSTAMP:20260423T105537
CREATED:20260422T153305Z
LAST-MODIFIED:20260422T153305Z
UID:10001079-1786910400-1786914900@www.rehobothbeachde.gov
SUMMARY:Summer Concert Series: Yacht Lobsters
DESCRIPTION:The Rehoboth Beach Summer Concert Series takes place every weekend from 8-9:15 pm at the Bandstand. Entry is free and open to the public. Performers are subject to change\, and the concert can be cancelled due to weather\, check the Bandstand site or social media for the latest details.
URL:https://www.rehobothbeachde.gov/event/summer-concert-series-yacht-lobsters/
LOCATION:Bandstand\, DE
CATEGORIES:Summer Concert Series
GEO:38.71662785;-75.076529236189
END:VEVENT
BEGIN:VEVENT
DTSTART;TZID=America/New_York:20260818T100000
DTEND;TZID=America/New_York:20260818T140000
DTSTAMP:20260423T105537
CREATED:20260213T165305Z
LAST-MODIFIED:20260413T165110Z
UID:10001037-1787047200-1787061600@www.rehobothbeachde.gov
SUMMARY:Rehoboth Beach Farmers Market
DESCRIPTION:Every Tuesday rain or shine\, the Rehoboth Beach Farmers Market at Grove Park offers a variety of fresh food\, local produce\, flowers\, handmade goods\, and more from local sellers in our community.
URL:https://www.rehobothbeachde.gov/event/rehoboth-beach-farmers-market-2/2026-08-18/
LOCATION:Grove Park
CATEGORIES:City Park,City Permitted Public Event
END:VEVENT
BEGIN:VEVENT
DTSTART;TZID=America/New_York:20260819T000000
DTEND;TZID=America/New_York:20260819T235959
DTSTAMP:20260423T105537
CREATED:20260317T174155Z
LAST-MODIFIED:20260317T174155Z
UID:10001016-1787097600-1787183999@www.rehobothbeachde.gov
SUMMARY:Rehoboth Beach Public Library Science Class
DESCRIPTION:The Rehoboth Beach Public Library is hosting a science class at the Convention Center’s Room 1.
URL:https://www.rehobothbeachde.gov/event/rehoboth-beach-public-library-science-class-5/
CATEGORIES:Convention Center Event
END:VEVENT
BEGIN:VEVENT
DTSTART;TZID=America/New_York:20260821T140000
DTEND;TZID=America/New_York:20260821T140000
DTSTAMP:20260423T105537
CREATED:20251010T174216Z
LAST-MODIFIED:20251224T183507Z
UID:10000723-1787320800-1787320800@www.rehobothbeachde.gov
SUMMARY:Mayor & Commissioners Regular Meeting - 21 Aug 2026
DESCRIPTION:
URL:https://www.rehobothbeachde.gov/event/mayor-commissioners-regular-meeting-21-aug-2026/
LOCATION:City Hall Commissioners Room\, 2nd Floor\, 229 Rehoboth Avenue\, Rehoboth Beach\, DE\, 19971\, United States
CATEGORIES:City Meeting
GEO:43.8659735;-95.1169604
X-APPLE-STRUCTURED-LOCATION;VALUE=URI;X-ADDRESS=City Hall Commissioners Room 2nd Floor 229 Rehoboth Avenue Rehoboth Beach DE 19971 United States;X-APPLE-RADIUS=500;X-TITLE=229 Rehoboth Avenue:geo:-95.1169604,43.8659735
END:VEVENT
BEGIN:VEVENT
DTSTART;TZID=America/New_York:20260821T200000
DTEND;TZID=America/New_York:20260821T211500
DTSTAMP:20260423T105537
CREATED:20260422T153358Z
LAST-MODIFIED:20260422T153358Z
UID:10001080-1787342400-1787346900@www.rehobothbeachde.gov
SUMMARY:Summer Concert Series: Lower Case Blues
DESCRIPTION:The Rehoboth Beach Summer Concert Series takes place every weekend from 8-9:15 pm at the Bandstand. Entry is free and open to the public. Performers are subject to change\, and the concert can be cancelled due to weather\, check the Bandstand site or social media for the latest details.
URL:https://www.rehobothbeachde.gov/event/summer-concert-series-lower-case-blues/
LOCATION:Bandstand\, DE
CATEGORIES:Summer Concert Series
GEO:38.71662785;-75.076529236189
END:VEVENT
BEGIN:VEVENT
DTSTART;TZID=America/New_York:20260822T200000
DTEND;TZID=America/New_York:20260822T211500
DTSTAMP:20260423T105537
CREATED:20260422T153526Z
LAST-MODIFIED:20260422T153526Z
UID:10001081-1787428800-1787433300@www.rehobothbeachde.gov
SUMMARY:Summer Concert Series: The Sensational Soul Cruisers
DESCRIPTION:The Rehoboth Beach Summer Concert Series takes place every weekend from 8-9:15 pm at the Bandstand. Entry is free and open to the public. Performers are subject to change\, and the concert can be cancelled due to weather\, check the Bandstand site or social media for the latest details.
URL:https://www.rehobothbeachde.gov/event/summer-concert-series-the-sensational-soul-cruisers-2/
LOCATION:Bandstand\, DE
CATEGORIES:Summer Concert Series
GEO:38.71662785;-75.076529236189
END:VEVENT
BEGIN:VEVENT
DTSTART;TZID=America/New_York:20260823T080000
DTEND;TZID=America/New_York:20260823T093000
DTSTAMP:20260423T105537
CREATED:20260206T210425Z
LAST-MODIFIED:20260313T150544Z
UID:10000821-1787472000-1787477400@www.rehobothbeachde.gov
SUMMARY:12th Firefightin' 5K
DESCRIPTION:5k benefiting the Rehoboth Beach Fire Company\, in memory of the late Donnie Mitchell.
URL:https://www.rehobothbeachde.gov/event/11th-firefightin-5k-2026/
LOCATION:Boardwalk
CATEGORIES:Race/Run
END:VEVENT
BEGIN:VEVENT
DTSTART;TZID=America/New_York:20260823T080000
DTEND;TZID=America/New_York:20260823T093000
DTSTAMP:20260423T105537
CREATED:20260206T210538Z
LAST-MODIFIED:20260206T210538Z
UID:10000822-1787472000-1787477400@www.rehobothbeachde.gov
SUMMARY:Boardwalk Mile Swim
DESCRIPTION:Ocean 1 mile swim organized by the Rehoboth Beach Patrol to fund a RBP scholarship in memory of TC Coveleski. SEASHORE STRIDERS | Seashore Striders
URL:https://www.rehobothbeachde.gov/event/boardwalk-mile-swim-2/
LOCATION:Beach
CATEGORIES:City Permitted Public Event
END:VEVENT
BEGIN:VEVENT
DTSTART;TZID=America/New_York:20260823T083000
DTEND;TZID=America/New_York:20260823T083000
DTSTAMP:20260423T105537
CREATED:20260310T151114Z
LAST-MODIFIED:20260310T151114Z
UID:10001008-1787473800-1787473800@www.rehobothbeachde.gov
SUMMARY:Beach Church Service
DESCRIPTION:New Covenant Church is hosting a sunrise church service every Sunday from June to September
URL:https://www.rehobothbeachde.gov/event/beach-church-service/2026-08-23/
LOCATION:Beach
CATEGORIES:City Permitted Public Event
END:VEVENT
BEGIN:VEVENT
DTSTART;TZID=America/New_York:20260823T200000
DTEND;TZID=America/New_York:20260823T211500
DTSTAMP:20260423T105537
CREATED:20260422T153631Z
LAST-MODIFIED:20260422T153631Z
UID:10001082-1787515200-1787519700@www.rehobothbeachde.gov
SUMMARY:Summer Concert Series: The Fabulous Greaseband
DESCRIPTION:The Rehoboth Beach Summer Concert Series takes place every weekend from 8-9:15 pm at the Bandstand. Entry is free and open to the public. Performers are subject to change\, and the concert can be cancelled due to weather\, check the Bandstand site or social media for the latest details.
URL:https://www.rehobothbeachde.gov/event/summer-concert-series-the-fabulous-greaseband-2/
LOCATION:Bandstand\, DE
CATEGORIES:Summer Concert Series
GEO:38.71662785;-75.076529236189
END:VEVENT
BEGIN:VEVENT
DTSTART;TZID=America/New_York:20260824T100000
DTEND;TZID=America/New_York:20260824T100000
DTSTAMP:20260423T105537
CREATED:20251010T174216Z
LAST-MODIFIED:20251224T183508Z
UID:10000724-1787565600-1787565600@www.rehobothbeachde.gov
SUMMARY:Parks & Shade Tree Commission Meeting - 24 Aug 2026
DESCRIPTION:
URL:https://www.rehobothbeachde.gov/event/parks-shade-tree-commission-meeting-24-aug-2026/
LOCATION:City Hall Commissioners Room\, 2nd Floor\, 229 Rehoboth Avenue\, Rehoboth Beach\, DE\, 19971\, United States
CATEGORIES:City Meeting
GEO:43.8659735;-95.1169604
X-APPLE-STRUCTURED-LOCATION;VALUE=URI;X-ADDRESS=City Hall Commissioners Room 2nd Floor 229 Rehoboth Avenue Rehoboth Beach DE 19971 United States;X-APPLE-RADIUS=500;X-TITLE=229 Rehoboth Avenue:geo:-95.1169604,43.8659735
END:VEVENT
BEGIN:VEVENT
DTSTART;TZID=America/New_York:20260824T133000
DTEND;TZID=America/New_York:20260824T133000
DTSTAMP:20260423T105537
CREATED:20251010T174216Z
LAST-MODIFIED:20251224T183508Z
UID:10000725-1787578200-1787578200@www.rehobothbeachde.gov
SUMMARY:Board of Adjustment Meeting - 24 Aug 2026
DESCRIPTION:
URL:https://www.rehobothbeachde.gov/event/board-of-adjustment-meeting-24-aug-2026/
LOCATION:City Hall Commissioners Room\, 2nd Floor\, 229 Rehoboth Avenue\, Rehoboth Beach\, DE\, 19971\, United States
CATEGORIES:City Meeting
GEO:43.8659735;-95.1169604
X-APPLE-STRUCTURED-LOCATION;VALUE=URI;X-ADDRESS=City Hall Commissioners Room 2nd Floor 229 Rehoboth Avenue Rehoboth Beach DE 19971 United States;X-APPLE-RADIUS=500;X-TITLE=229 Rehoboth Avenue:geo:-95.1169604,43.8659735
END:VEVENT
BEGIN:VEVENT
DTSTART;TZID=America/New_York:20260825T100000
DTEND;TZID=America/New_York:20260825T140000
DTSTAMP:20260423T105537
CREATED:20260213T165305Z
LAST-MODIFIED:20260413T165110Z
UID:10001038-1787652000-1787666400@www.rehobothbeachde.gov
SUMMARY:Rehoboth Beach Farmers Market
DESCRIPTION:Every Tuesday rain or shine\, the Rehoboth Beach Farmers Market at Grove Park offers a variety of fresh food\, local produce\, flowers\, handmade goods\, and more from local sellers in our community.
URL:https://www.rehobothbeachde.gov/event/rehoboth-beach-farmers-market-2/2026-08-25/
LOCATION:Grove Park
CATEGORIES:City Park,City Permitted Public Event
END:VEVENT
BEGIN:VEVENT
DTSTART;TZID=America/New_York:20260828T133000
DTEND;TZID=America/New_York:20260828T133000
DTSTAMP:20260423T105537
CREATED:20251010T174216Z
LAST-MODIFIED:20251224T183509Z
UID:10000726-1787923800-1787923800@www.rehobothbeachde.gov
SUMMARY:Planning Commission Regular Meeting - 28 Aug 2026
DESCRIPTION:
URL:https://www.rehobothbeachde.gov/event/planning-commission-regular-meeting-28-aug-2026/
LOCATION:City Hall Commissioners Room\, 2nd Floor\, 229 Rehoboth Avenue\, Rehoboth Beach\, DE\, 19971\, United States
CATEGORIES:City Meeting
GEO:43.8659735;-95.1169604
X-APPLE-STRUCTURED-LOCATION;VALUE=URI;X-ADDRESS=City Hall Commissioners Room 2nd Floor 229 Rehoboth Avenue Rehoboth Beach DE 19971 United States;X-APPLE-RADIUS=500;X-TITLE=229 Rehoboth Avenue:geo:-95.1169604,43.8659735
END:VEVENT
BEGIN:VEVENT
DTSTART;TZID=America/New_York:20260828T200000
DTEND;TZID=America/New_York:20260828T211500
DTSTAMP:20260423T105537
CREATED:20260422T153729Z
LAST-MODIFIED:20260422T153729Z
UID:10001083-1787947200-1787951700@www.rehobothbeachde.gov
SUMMARY:Summer Concert Series: 7 Bridges - The Ultimate Eagles Experience
DESCRIPTION:The Rehoboth Beach Summer Concert Series takes place every weekend from 8-9:15 pm at the Bandstand. Entry is free and open to the public. Performers are subject to change\, and the concert can be cancelled due to weather\, check the Bandstand site or social media for the latest details.
URL:https://www.rehobothbeachde.gov/event/summer-concert-series-7-bridges-the-ultimate-eagles-experience/
LOCATION:Bandstand\, DE
CATEGORIES:Summer Concert Series
GEO:38.71662785;-75.076529236189
END:VEVENT
BEGIN:VEVENT
DTSTART;TZID=America/New_York:20260829T200000
DTEND;TZID=America/New_York:20260829T211500
DTSTAMP:20260423T105537
CREATED:20260422T153813Z
LAST-MODIFIED:20260422T153813Z
UID:10001084-1788033600-1788038100@www.rehobothbeachde.gov
SUMMARY:Summer Concert Series: Earth Jam
DESCRIPTION:The Rehoboth Beach Summer Concert Series takes place every weekend from 8-9:15 pm at the Bandstand. Entry is free and open to the public. Performers are subject to change\, and the concert can be cancelled due to weather\, check the Bandstand site or social media for the latest details.
URL:https://www.rehobothbeachde.gov/event/summer-concert-series-earth-jam/
LOCATION:Bandstand\, DE
CATEGORIES:Summer Concert Series
GEO:38.71662785;-75.076529236189
END:VEVENT
BEGIN:VEVENT
DTSTART;TZID=America/New_York:20260830T083000
DTEND;TZID=America/New_York:20260830T083000
DTSTAMP:20260423T105537
CREATED:20260310T151114Z
LAST-MODIFIED:20260310T151114Z
UID:10001009-1788078600-1788078600@www.rehobothbeachde.gov
SUMMARY:Beach Church Service
DESCRIPTION:New Covenant Church is hosting a sunrise church service every Sunday from June to September
URL:https://www.rehobothbeachde.gov/event/beach-church-service/2026-08-30/
LOCATION:Beach
CATEGORIES:City Permitted Public Event
END:VEVENT
BEGIN:VEVENT
DTSTART;TZID=America/New_York:20260830T200000
DTEND;TZID=America/New_York:20260830T211500
DTSTAMP:20260423T105537
CREATED:20260422T153903Z
LAST-MODIFIED:20260422T153903Z
UID:10001085-1788120000-1788124500@www.rehobothbeachde.gov
SUMMARY:Summer Concert Series: The Tim Laushey Orchestra
DESCRIPTION:The Rehoboth Beach Summer Concert Series takes place every weekend from 8-9:15 pm at the Bandstand. Entry is free and open to the public. Performers are subject to change\, and the concert can be cancelled due to weather\, check the Bandstand site or social media for the latest details.
URL:https://www.rehobothbeachde.gov/event/summer-concert-series-the-tim-laushey-orchestra/
LOCATION:Bandstand\, DE
CATEGORIES:Summer Concert Series
GEO:38.71662785;-75.076529236189
END:VEVENT
BEGIN:VEVENT
DTSTART;TZID=America/New_York:20260901T100000
DTEND;TZID=America/New_York:20260901T140000
DTSTAMP:20260423T105537
CREATED:20260213T165305Z
LAST-MODIFIED:20260413T165110Z
UID:10001039-1788256800-1788271200@www.rehobothbeachde.gov
SUMMARY:Rehoboth Beach Farmers Market
DESCRIPTION:Every Tuesday rain or shine\, the Rehoboth Beach Farmers Market at Grove Park offers a variety of fresh food\, local produce\, flowers\, handmade goods\, and more from local sellers in our community.
URL:https://www.rehobothbeachde.gov/event/rehoboth-beach-farmers-market-2/2026-09-01/
LOCATION:Grove Park
CATEGORIES:City Park,City Permitted Public Event
END:VEVENT
BEGIN:VEVENT
DTSTART;TZID=America/New_York:20260904T200000
DTEND;TZID=America/New_York:20260904T211500
DTSTAMP:20260423T105537
CREATED:20260422T154000Z
LAST-MODIFIED:20260422T154000Z
UID:10001086-1788552000-1788556500@www.rehobothbeachde.gov
SUMMARY:Summer Concert Series: Captain Mike & the Shipwrecked
DESCRIPTION:The Rehoboth Beach Summer Concert Series takes place every weekend from 8-9:15 pm at the Bandstand. Entry is free and open to the public. Performers are subject to change\, and the concert can be cancelled due to weather\, check the Bandstand site or social media for the latest details.
URL:https://www.rehobothbeachde.gov/event/summer-concert-series-captain-mike-the-shipwrecked/
LOCATION:Bandstand\, DE
CATEGORIES:Summer Concert Series
GEO:38.71662785;-75.076529236189
END:VEVENT
BEGIN:VEVENT
DTSTART;TZID=America/New_York:20260905T073000
DTEND;TZID=America/New_York:20260905T090000
DTSTAMP:20260423T105537
CREATED:20260206T210644Z
LAST-MODIFIED:20260209T191206Z
UID:10000823-1788593400-1788598800@www.rehobothbeachde.gov
SUMMARY:Last Blast Prediction 5K
DESCRIPTION:Annual 5k to celebrate Labor Day Weekend hosted by Seashore Striders
URL:https://www.rehobothbeachde.gov/event/last-blast-prediction-5k-2/
LOCATION:Grove Park
CATEGORIES:City Permitted Public Event,Race/Run
END:VEVENT
BEGIN:VEVENT
DTSTART;TZID=America/New_York:20260905T200000
DTEND;TZID=America/New_York:20260905T211500
DTSTAMP:20260423T105537
CREATED:20260422T154048Z
LAST-MODIFIED:20260422T154048Z
UID:10001087-1788638400-1788642900@www.rehobothbeachde.gov
SUMMARY:Summer Concert Series: Pet Sounds Live - Beach Boys Tribute
DESCRIPTION:The Rehoboth Beach Summer Concert Series takes place every weekend from 8-9:15 pm at the Bandstand. Entry is free and open to the public. Performers are subject to change\, and the concert can be cancelled due to weather\, check the Bandstand site or social media for the latest details.
URL:https://www.rehobothbeachde.gov/event/summer-concert-series-pet-sounds-live-beach-boys-tribute/
LOCATION:Bandstand\, DE
CATEGORIES:Summer Concert Series
GEO:38.71662785;-75.076529236189
END:VEVENT
BEGIN:VEVENT
DTSTART;TZID=America/New_York:20260906T083000
DTEND;TZID=America/New_York:20260906T083000
DTSTAMP:20260423T105537
CREATED:20260310T151114Z
LAST-MODIFIED:20260310T151114Z
UID:10001010-1788683400-1788683400@www.rehobothbeachde.gov
SUMMARY:Beach Church Service
DESCRIPTION:New Covenant Church is hosting a sunrise church service every Sunday from June to September
URL:https://www.rehobothbeachde.gov/event/beach-church-service/2026-09-06/
LOCATION:Beach
CATEGORIES:City Permitted Public Event
END:VEVENT
END:VCALENDAR