BEGIN:VCALENDAR
VERSION:2.0
PRODID:-//City of Rehoboth Beach - ECPv6.15.12.2//NONSGML v1.0//EN
CALSCALE:GREGORIAN
METHOD:PUBLISH
X-ORIGINAL-URL:https://www.rehobothbeachde.gov
X-WR-CALDESC:Events for City of Rehoboth Beach
REFRESH-INTERVAL;VALUE=DURATION:PT1H
X-Robots-Tag:noindex
X-PUBLISHED-TTL:PT1H
BEGIN:VTIMEZONE
TZID:America/New_York
BEGIN:DAYLIGHT
TZOFFSETFROM:-0500
TZOFFSETTO:-0400
TZNAME:EDT
DTSTART:20250309T070000
END:DAYLIGHT
BEGIN:STANDARD
TZOFFSETFROM:-0400
TZOFFSETTO:-0500
TZNAME:EST
DTSTART:20251102T060000
END:STANDARD
BEGIN:DAYLIGHT
TZOFFSETFROM:-0500
TZOFFSETTO:-0400
TZNAME:EDT
DTSTART:20260308T070000
END:DAYLIGHT
BEGIN:STANDARD
TZOFFSETFROM:-0400
TZOFFSETTO:-0500
TZNAME:EST
DTSTART:20261101T060000
END:STANDARD
BEGIN:DAYLIGHT
TZOFFSETFROM:-0500
TZOFFSETTO:-0400
TZNAME:EDT
DTSTART:20270314T070000
END:DAYLIGHT
BEGIN:STANDARD
TZOFFSETFROM:-0400
TZOFFSETTO:-0500
TZNAME:EST
DTSTART:20271107T060000
END:STANDARD
END:VTIMEZONE
BEGIN:VEVENT
DTSTART;TZID=America/New_York:20260703T200000
DTEND;TZID=America/New_York:20260703T211500
DTSTAMP:20260424T152954
CREATED:20260422T150150Z
LAST-MODIFIED:20260422T150219Z
UID:10001060-1783108800-1783113300@www.rehobothbeachde.gov
SUMMARY:Summer Concert Series: Uncaged - Zac Brown Band Tribute
DESCRIPTION:The Rehoboth Beach Summer Concert Series takes place every weekend from 8-9:15 pm at the Bandstand. Entry is free and open to the public. Performers are subject to change\, and the concert can be cancelled due to weather\, check the Bandstand site or social media for the latest details.
URL:https://www.rehobothbeachde.gov/event/uncaged-zac-brown-band-tribute/
LOCATION:Bandstand\, DE
CATEGORIES:Summer Concert Series
GEO:38.71662785;-75.076529236189
END:VEVENT
BEGIN:VEVENT
DTSTART;TZID=America/New_York:20260704T200000
DTEND;TZID=America/New_York:20260704T211500
DTSTAMP:20260424T152954
CREATED:20260422T150322Z
LAST-MODIFIED:20260422T150322Z
UID:10001061-1783195200-1783199700@www.rehobothbeachde.gov
SUMMARY:Summer Concert Series: 287th Army Band
DESCRIPTION:The Rehoboth Beach Summer Concert Series takes place every weekend from 8-9:15 pm at the Bandstand. Entry is free and open to the public. Performers are subject to change\, and the concert can be cancelled due to weather\, check the Bandstand site or social media for the latest details.
URL:https://www.rehobothbeachde.gov/event/summer-concert-series-287th-army-band/
LOCATION:Bandstand\, DE
CATEGORIES:Summer Concert Series
GEO:38.71662785;-75.076529236189
END:VEVENT
BEGIN:VEVENT
DTSTART;TZID=America/New_York:20260705T200000
DTEND;TZID=America/New_York:20260705T230000
DTSTAMP:20260424T152954
CREATED:20260422T150748Z
LAST-MODIFIED:20260422T150814Z
UID:10001062-1783281600-1783292400@www.rehobothbeachde.gov
SUMMARY:Summer Concert Series: The Funsters
DESCRIPTION:A special edition of the Bandstand Summer Concert Series\, local favorite the Funsters will be playing before and after the city’s fireworks display until 11 pm.
URL:https://www.rehobothbeachde.gov/event/summer-concert-series-the-funsters/
LOCATION:Bandstand\, DE
CATEGORIES:Summer Concert Series
GEO:38.71662785;-75.076529236189
END:VEVENT
BEGIN:VEVENT
DTSTART;TZID=America/New_York:20260710T200000
DTEND;TZID=America/New_York:20260710T211500
DTSTAMP:20260424T152954
CREATED:20260422T151000Z
LAST-MODIFIED:20260422T151000Z
UID:10001063-1783713600-1783718100@www.rehobothbeachde.gov
SUMMARY:Summer Concert Series: BOSTYX - Ultimate Boston Styx Tribute
DESCRIPTION:The Rehoboth Beach Summer Concert Series takes place every weekend from 8-9:15 pm at the Bandstand. Entry is free and open to the public. Performers are subject to change\, and the concert can be cancelled due to weather\, check the Bandstand site or social media for the latest details.
URL:https://www.rehobothbeachde.gov/event/summer-concert-series-bostyx-ultimate-boston-styx-tribute/
LOCATION:Bandstand\, DE
CATEGORIES:Summer Concert Series
GEO:38.71662785;-75.076529236189
END:VEVENT
BEGIN:VEVENT
DTSTART;TZID=America/New_York:20260711T200000
DTEND;TZID=America/New_York:20260711T211500
DTSTAMP:20260424T152954
CREATED:20260422T151118Z
LAST-MODIFIED:20260422T151118Z
UID:10001064-1783800000-1783804500@www.rehobothbeachde.gov
SUMMARY:Summer Concert Series: High Noon
DESCRIPTION:The Rehoboth Beach Summer Concert Series takes place every weekend from 8-9:15 pm at the Bandstand. Entry is free and open to the public. Performers are subject to change\, and the concert can be cancelled due to weather\, check the Bandstand site or social media for the latest details.
URL:https://www.rehobothbeachde.gov/event/summer-concert-series-high-noon/
LOCATION:Bandstand\, DE
CATEGORIES:Summer Concert Series
GEO:38.71662785;-75.076529236189
END:VEVENT
BEGIN:VEVENT
DTSTART;TZID=America/New_York:20260712T200000
DTEND;TZID=America/New_York:20260712T211500
DTSTAMP:20260424T152954
CREATED:20260422T151207Z
LAST-MODIFIED:20260422T151207Z
UID:10001065-1783886400-1783890900@www.rehobothbeachde.gov
SUMMARY:Summer Concert Series: Big Boy Brass
DESCRIPTION:The Rehoboth Beach Summer Concert Series takes place every weekend from 8-9:15 pm at the Bandstand. Entry is free and open to the public. Performers are subject to change\, and the concert can be cancelled due to weather\, check the Bandstand site or social media for the latest details.
URL:https://www.rehobothbeachde.gov/event/summer-concert-series-big-boy-brass/
LOCATION:Bandstand\, DE
CATEGORIES:Summer Concert Series
GEO:38.71662785;-75.076529236189
END:VEVENT
BEGIN:VEVENT
DTSTART;TZID=America/New_York:20260717T200000
DTEND;TZID=America/New_York:20260717T211500
DTSTAMP:20260424T152954
CREATED:20260422T151259Z
LAST-MODIFIED:20260422T151528Z
UID:10001066-1784318400-1784322900@www.rehobothbeachde.gov
SUMMARY:Summer Concert Series: On Bleecker Street - Simon & Garfunkel Tribute
DESCRIPTION:The Rehoboth Beach Summer Concert Series takes place every weekend from 8-9:15 pm at the Bandstand. Entry is free and open to the public. Performers are subject to change\, and the concert can be cancelled due to weather\, check the Bandstand site or social media for the latest details. \n  \n*Due to feedback from business owners\, there will not be a concert on Sunday\, July 19. Learn more here.
URL:https://www.rehobothbeachde.gov/event/summer-concert-series-on-bleecker-street-simon-garfunkel-tribute/
LOCATION:Bandstand\, DE
CATEGORIES:Summer Concert Series
GEO:38.71662785;-75.076529236189
END:VEVENT
BEGIN:VEVENT
DTSTART;TZID=America/New_York:20260718T200000
DTEND;TZID=America/New_York:20260718T211500
DTSTAMP:20260424T152954
CREATED:20260422T151632Z
LAST-MODIFIED:20260422T151632Z
UID:10001067-1784404800-1784409300@www.rehobothbeachde.gov
SUMMARY:Summer Concert Series: Echoes - The American Pink Floyd
DESCRIPTION:The Rehoboth Beach Summer Concert Series takes place every weekend from 8-9:15 pm at the Bandstand. Entry is free and open to the public. Performers are subject to change\, and the concert can be cancelled due to weather\, check the Bandstand site or social media for the latest details. \n  \n*Due to feedback from business owners\, there will not be a concert on Sunday\, July 19. Learn more here.
URL:https://www.rehobothbeachde.gov/event/summer-concert-series-echoes-the-american-pink-floyd/
LOCATION:Bandstand\, DE
CATEGORIES:Summer Concert Series
GEO:38.71662785;-75.076529236189
END:VEVENT
BEGIN:VEVENT
DTSTART;TZID=America/New_York:20260724T200000
DTEND;TZID=America/New_York:20260724T211500
DTSTAMP:20260424T152954
CREATED:20260422T151724Z
LAST-MODIFIED:20260422T151724Z
UID:10001068-1784923200-1784927700@www.rehobothbeachde.gov
SUMMARY:Summer Concert Series: Jesse Garron - Elvis Tribute
DESCRIPTION:The Rehoboth Beach Summer Concert Series takes place every weekend from 8-9:15 pm at the Bandstand. Entry is free and open to the public. Performers are subject to change\, and the concert can be cancelled due to weather\, check the Bandstand site or social media for the latest details.
URL:https://www.rehobothbeachde.gov/event/summer-concert-series-jesse-garron-elvis-tribute/
LOCATION:Bandstand\, DE
CATEGORIES:Summer Concert Series
GEO:38.71662785;-75.076529236189
END:VEVENT
BEGIN:VEVENT
DTSTART;TZID=America/New_York:20260725T200000
DTEND;TZID=America/New_York:20260725T211500
DTSTAMP:20260424T152954
CREATED:20260422T151816Z
LAST-MODIFIED:20260422T151816Z
UID:10001069-1785009600-1785014100@www.rehobothbeachde.gov
SUMMARY:Summer Concert Series: The Seven Wonders - Fleetwood Mac Tribute
DESCRIPTION:The Rehoboth Beach Summer Concert Series takes place every weekend from 8-9:15 pm at the Bandstand. Entry is free and open to the public. Performers are subject to change\, and the concert can be cancelled due to weather\, check the Bandstand site or social media for the latest details.
URL:https://www.rehobothbeachde.gov/event/summer-concert-series-the-seven-wonders-fleetwood-mac-tribute/
LOCATION:Bandstand\, DE
CATEGORIES:Summer Concert Series
GEO:38.71662785;-75.076529236189
END:VEVENT
BEGIN:VEVENT
DTSTART;TZID=America/New_York:20260726T200000
DTEND;TZID=America/New_York:20260726T211500
DTSTAMP:20260424T152954
CREATED:20260422T151905Z
LAST-MODIFIED:20260422T151905Z
UID:10001070-1785096000-1785100500@www.rehobothbeachde.gov
SUMMARY:Summer Concert Series: Just Sixties
DESCRIPTION:The Rehoboth Beach Summer Concert Series takes place every weekend from 8-9:15 pm at the Bandstand. Entry is free and open to the public. Performers are subject to change\, and the concert can be cancelled due to weather\, check the Bandstand site or social media for the latest details.
URL:https://www.rehobothbeachde.gov/event/summer-concert-series-just-sixties/
LOCATION:Bandstand\, DE
CATEGORIES:Summer Concert Series
GEO:38.71662785;-75.076529236189
END:VEVENT
BEGIN:VEVENT
DTSTART;TZID=America/New_York:20260731T200000
DTEND;TZID=America/New_York:20260731T211500
DTSTAMP:20260424T152954
CREATED:20260422T152026Z
LAST-MODIFIED:20260422T152026Z
UID:10001071-1785528000-1785532500@www.rehobothbeachde.gov
SUMMARY:Summer Concert Series: Kashmir - The Led Zepplin Show
DESCRIPTION:The Rehoboth Beach Summer Concert Series takes place every weekend from 8-9:15 pm at the Bandstand. Entry is free and open to the public. Performers are subject to change\, and the concert can be cancelled due to weather\, check the Bandstand site or social media for the latest details.
URL:https://www.rehobothbeachde.gov/event/summer-concert-series-kashmir-the-led-zepplin-show/
LOCATION:Bandstand\, DE
CATEGORIES:Summer Concert Series
GEO:38.71662785;-75.076529236189
END:VEVENT
BEGIN:VEVENT
DTSTART;TZID=America/New_York:20260801T200000
DTEND;TZID=America/New_York:20260801T211500
DTSTAMP:20260424T152954
CREATED:20260422T152512Z
LAST-MODIFIED:20260422T152512Z
UID:10001072-1785614400-1785618900@www.rehobothbeachde.gov
SUMMARY:Summer Concert Series: The New Romance
DESCRIPTION:The Rehoboth Beach Summer Concert Series takes place every weekend from 8-9:15 pm at the Bandstand. Entry is free and open to the public. Performers are subject to change\, and the concert can be cancelled due to weather\, check the Bandstand site or social media for the latest details.
URL:https://www.rehobothbeachde.gov/event/summer-concert-series-the-new-romance/
LOCATION:Bandstand\, DE
CATEGORIES:Summer Concert Series
GEO:38.71662785;-75.076529236189
END:VEVENT
BEGIN:VEVENT
DTSTART;TZID=America/New_York:20260802T200000
DTEND;TZID=America/New_York:20260802T211500
DTSTAMP:20260424T152954
CREATED:20260422T152601Z
LAST-MODIFIED:20260422T152601Z
UID:10001073-1785700800-1785705300@www.rehobothbeachde.gov
SUMMARY:Summer Concert Series: Nashville Express
DESCRIPTION:The Rehoboth Beach Summer Concert Series takes place every weekend from 8-9:15 pm at the Bandstand. Entry is free and open to the public. Performers are subject to change\, and the concert can be cancelled due to weather\, check the Bandstand site or social media for the latest details.
URL:https://www.rehobothbeachde.gov/event/summer-concert-series-nashville-express/
LOCATION:Bandstand\, DE
CATEGORIES:Summer Concert Series
GEO:38.71662785;-75.076529236189
END:VEVENT
BEGIN:VEVENT
DTSTART;TZID=America/New_York:20260807T200000
DTEND;TZID=America/New_York:20260807T211500
DTSTAMP:20260424T152954
CREATED:20260422T152703Z
LAST-MODIFIED:20260422T152703Z
UID:10001074-1786132800-1786137300@www.rehobothbeachde.gov
SUMMARY:Summer Concert Series: Frontiers - Ultimate Journey Tribute
DESCRIPTION:The Rehoboth Beach Summer Concert Series takes place every weekend from 8-9:15 pm at the Bandstand. Entry is free and open to the public. Performers are subject to change\, and the concert can be cancelled due to weather\, check the Bandstand site or social media for the latest details.
URL:https://www.rehobothbeachde.gov/event/summer-concert-series-frontiers-ultimate-journey-tribute/
LOCATION:Bandstand\, DE
CATEGORIES:Summer Concert Series
GEO:38.71662785;-75.076529236189
END:VEVENT
BEGIN:VEVENT
DTSTART;TZID=America/New_York:20260808T200000
DTEND;TZID=America/New_York:20260808T211500
DTSTAMP:20260424T152954
CREATED:20260422T152834Z
LAST-MODIFIED:20260422T152834Z
UID:10001075-1786219200-1786223700@www.rehobothbeachde.gov
SUMMARY:Summer Concert Series: US Navy Band Sea Chanters
DESCRIPTION:The Rehoboth Beach Summer Concert Series takes place every weekend from 8-9:15 pm at the Bandstand. Entry is free and open to the public. Performers are subject to change\, and the concert can be cancelled due to weather\, check the Bandstand site or social media for the latest details.
URL:https://www.rehobothbeachde.gov/event/summer-concert-series-us-navy-band-sea-chanters/
LOCATION:Bandstand\, DE
CATEGORIES:Summer Concert Series
GEO:38.71662785;-75.076529236189
END:VEVENT
BEGIN:VEVENT
DTSTART;TZID=America/New_York:20260809T200000
DTEND;TZID=America/New_York:20260809T211500
DTSTAMP:20260424T152954
CREATED:20260422T152932Z
LAST-MODIFIED:20260422T152932Z
UID:10001076-1786305600-1786310100@www.rehobothbeachde.gov
SUMMARY:Summer Concert Series: The Brit Pack - British Invasion & More
DESCRIPTION:The Rehoboth Beach Summer Concert Series takes place every weekend from 8-9:15 pm at the Bandstand. Entry is free and open to the public. Performers are subject to change\, and the concert can be cancelled due to weather\, check the Bandstand site or social media for the latest details.
URL:https://www.rehobothbeachde.gov/event/summer-concert-series-the-brit-pack-british-invasion-more/
LOCATION:Bandstand\, DE
CATEGORIES:Summer Concert Series
GEO:38.71662785;-75.076529236189
END:VEVENT
BEGIN:VEVENT
DTSTART;TZID=America/New_York:20260814T200000
DTEND;TZID=America/New_York:20260814T211500
DTSTAMP:20260424T152954
CREATED:20260422T153124Z
LAST-MODIFIED:20260422T153124Z
UID:10001077-1786737600-1786742100@www.rehobothbeachde.gov
SUMMARY:Summer Concert Series: US Army Field Band (Ensemble)
DESCRIPTION:The Rehoboth Beach Summer Concert Series takes place every weekend from 8-9:15 pm at the Bandstand. Entry is free and open to the public. Performers are subject to change\, and the concert can be cancelled due to weather\, check the Bandstand site or social media for the latest details.
URL:https://www.rehobothbeachde.gov/event/summer-concert-series-us-army-field-band-ensemble/
LOCATION:Bandstand\, DE
CATEGORIES:Summer Concert Series
GEO:38.71662785;-75.076529236189
END:VEVENT
BEGIN:VEVENT
DTSTART;TZID=America/New_York:20260815T200000
DTEND;TZID=America/New_York:20260815T211500
DTSTAMP:20260424T152954
CREATED:20260422T153214Z
LAST-MODIFIED:20260422T153214Z
UID:10001078-1786824000-1786828500@www.rehobothbeachde.gov
SUMMARY:Summer Concert Series: Sugar Mountain - Neil Young Tribute
DESCRIPTION:The Rehoboth Beach Summer Concert Series takes place every weekend from 8-9:15 pm at the Bandstand. Entry is free and open to the public. Performers are subject to change\, and the concert can be cancelled due to weather\, check the Bandstand site or social media for the latest details.
URL:https://www.rehobothbeachde.gov/event/summer-concert-series-sugar-mountain-neil-young-tribute/
LOCATION:Bandstand\, DE
CATEGORIES:Summer Concert Series
GEO:38.71662785;-75.076529236189
END:VEVENT
BEGIN:VEVENT
DTSTART;TZID=America/New_York:20260816T200000
DTEND;TZID=America/New_York:20260816T211500
DTSTAMP:20260424T152954
CREATED:20260422T153305Z
LAST-MODIFIED:20260422T153305Z
UID:10001079-1786910400-1786914900@www.rehobothbeachde.gov
SUMMARY:Summer Concert Series: Yacht Lobsters
DESCRIPTION:The Rehoboth Beach Summer Concert Series takes place every weekend from 8-9:15 pm at the Bandstand. Entry is free and open to the public. Performers are subject to change\, and the concert can be cancelled due to weather\, check the Bandstand site or social media for the latest details.
URL:https://www.rehobothbeachde.gov/event/summer-concert-series-yacht-lobsters/
LOCATION:Bandstand\, DE
CATEGORIES:Summer Concert Series
GEO:38.71662785;-75.076529236189
END:VEVENT
BEGIN:VEVENT
DTSTART;TZID=America/New_York:20260821T200000
DTEND;TZID=America/New_York:20260821T211500
DTSTAMP:20260424T152954
CREATED:20260422T153358Z
LAST-MODIFIED:20260422T153358Z
UID:10001080-1787342400-1787346900@www.rehobothbeachde.gov
SUMMARY:Summer Concert Series: Lower Case Blues
DESCRIPTION:The Rehoboth Beach Summer Concert Series takes place every weekend from 8-9:15 pm at the Bandstand. Entry is free and open to the public. Performers are subject to change\, and the concert can be cancelled due to weather\, check the Bandstand site or social media for the latest details.
URL:https://www.rehobothbeachde.gov/event/summer-concert-series-lower-case-blues/
LOCATION:Bandstand\, DE
CATEGORIES:Summer Concert Series
GEO:38.71662785;-75.076529236189
END:VEVENT
BEGIN:VEVENT
DTSTART;TZID=America/New_York:20260822T200000
DTEND;TZID=America/New_York:20260822T211500
DTSTAMP:20260424T152954
CREATED:20260422T153526Z
LAST-MODIFIED:20260422T153526Z
UID:10001081-1787428800-1787433300@www.rehobothbeachde.gov
SUMMARY:Summer Concert Series: The Sensational Soul Cruisers
DESCRIPTION:The Rehoboth Beach Summer Concert Series takes place every weekend from 8-9:15 pm at the Bandstand. Entry is free and open to the public. Performers are subject to change\, and the concert can be cancelled due to weather\, check the Bandstand site or social media for the latest details.
URL:https://www.rehobothbeachde.gov/event/summer-concert-series-the-sensational-soul-cruisers-2/
LOCATION:Bandstand\, DE
CATEGORIES:Summer Concert Series
GEO:38.71662785;-75.076529236189
END:VEVENT
BEGIN:VEVENT
DTSTART;TZID=America/New_York:20260823T200000
DTEND;TZID=America/New_York:20260823T211500
DTSTAMP:20260424T152954
CREATED:20260422T153631Z
LAST-MODIFIED:20260422T153631Z
UID:10001082-1787515200-1787519700@www.rehobothbeachde.gov
SUMMARY:Summer Concert Series: The Fabulous Greaseband
DESCRIPTION:The Rehoboth Beach Summer Concert Series takes place every weekend from 8-9:15 pm at the Bandstand. Entry is free and open to the public. Performers are subject to change\, and the concert can be cancelled due to weather\, check the Bandstand site or social media for the latest details.
URL:https://www.rehobothbeachde.gov/event/summer-concert-series-the-fabulous-greaseband-2/
LOCATION:Bandstand\, DE
CATEGORIES:Summer Concert Series
GEO:38.71662785;-75.076529236189
END:VEVENT
BEGIN:VEVENT
DTSTART;TZID=America/New_York:20260828T200000
DTEND;TZID=America/New_York:20260828T211500
DTSTAMP:20260424T152954
CREATED:20260422T153729Z
LAST-MODIFIED:20260422T153729Z
UID:10001083-1787947200-1787951700@www.rehobothbeachde.gov
SUMMARY:Summer Concert Series: 7 Bridges - The Ultimate Eagles Experience
DESCRIPTION:The Rehoboth Beach Summer Concert Series takes place every weekend from 8-9:15 pm at the Bandstand. Entry is free and open to the public. Performers are subject to change\, and the concert can be cancelled due to weather\, check the Bandstand site or social media for the latest details.
URL:https://www.rehobothbeachde.gov/event/summer-concert-series-7-bridges-the-ultimate-eagles-experience/
LOCATION:Bandstand\, DE
CATEGORIES:Summer Concert Series
GEO:38.71662785;-75.076529236189
END:VEVENT
BEGIN:VEVENT
DTSTART;TZID=America/New_York:20260829T200000
DTEND;TZID=America/New_York:20260829T211500
DTSTAMP:20260424T152954
CREATED:20260422T153813Z
LAST-MODIFIED:20260422T153813Z
UID:10001084-1788033600-1788038100@www.rehobothbeachde.gov
SUMMARY:Summer Concert Series: Earth Jam
DESCRIPTION:The Rehoboth Beach Summer Concert Series takes place every weekend from 8-9:15 pm at the Bandstand. Entry is free and open to the public. Performers are subject to change\, and the concert can be cancelled due to weather\, check the Bandstand site or social media for the latest details.
URL:https://www.rehobothbeachde.gov/event/summer-concert-series-earth-jam/
LOCATION:Bandstand\, DE
CATEGORIES:Summer Concert Series
GEO:38.71662785;-75.076529236189
END:VEVENT
BEGIN:VEVENT
DTSTART;TZID=America/New_York:20260830T200000
DTEND;TZID=America/New_York:20260830T211500
DTSTAMP:20260424T152954
CREATED:20260422T153903Z
LAST-MODIFIED:20260422T153903Z
UID:10001085-1788120000-1788124500@www.rehobothbeachde.gov
SUMMARY:Summer Concert Series: The Tim Laushey Orchestra
DESCRIPTION:The Rehoboth Beach Summer Concert Series takes place every weekend from 8-9:15 pm at the Bandstand. Entry is free and open to the public. Performers are subject to change\, and the concert can be cancelled due to weather\, check the Bandstand site or social media for the latest details.
URL:https://www.rehobothbeachde.gov/event/summer-concert-series-the-tim-laushey-orchestra/
LOCATION:Bandstand\, DE
CATEGORIES:Summer Concert Series
GEO:38.71662785;-75.076529236189
END:VEVENT
BEGIN:VEVENT
DTSTART;TZID=America/New_York:20260904T200000
DTEND;TZID=America/New_York:20260904T211500
DTSTAMP:20260424T152954
CREATED:20260422T154000Z
LAST-MODIFIED:20260422T154000Z
UID:10001086-1788552000-1788556500@www.rehobothbeachde.gov
SUMMARY:Summer Concert Series: Captain Mike & the Shipwrecked
DESCRIPTION:The Rehoboth Beach Summer Concert Series takes place every weekend from 8-9:15 pm at the Bandstand. Entry is free and open to the public. Performers are subject to change\, and the concert can be cancelled due to weather\, check the Bandstand site or social media for the latest details.
URL:https://www.rehobothbeachde.gov/event/summer-concert-series-captain-mike-the-shipwrecked/
LOCATION:Bandstand\, DE
CATEGORIES:Summer Concert Series
GEO:38.71662785;-75.076529236189
END:VEVENT
BEGIN:VEVENT
DTSTART;TZID=America/New_York:20260905T200000
DTEND;TZID=America/New_York:20260905T211500
DTSTAMP:20260424T152954
CREATED:20260422T154048Z
LAST-MODIFIED:20260422T154048Z
UID:10001087-1788638400-1788642900@www.rehobothbeachde.gov
SUMMARY:Summer Concert Series: Pet Sounds Live - Beach Boys Tribute
DESCRIPTION:The Rehoboth Beach Summer Concert Series takes place every weekend from 8-9:15 pm at the Bandstand. Entry is free and open to the public. Performers are subject to change\, and the concert can be cancelled due to weather\, check the Bandstand site or social media for the latest details.
URL:https://www.rehobothbeachde.gov/event/summer-concert-series-pet-sounds-live-beach-boys-tribute/
LOCATION:Bandstand\, DE
CATEGORIES:Summer Concert Series
GEO:38.71662785;-75.076529236189
END:VEVENT
END:VCALENDAR