BEGIN:VCALENDAR
VERSION:2.0
PRODID:-//City of Rehoboth Beach - ECPv6.15.12.2//NONSGML v1.0//EN
CALSCALE:GREGORIAN
METHOD:PUBLISH
X-WR-CALNAME:City of Rehoboth Beach
X-ORIGINAL-URL:https://www.rehobothbeachde.gov
X-WR-CALDESC:Events for City of Rehoboth Beach
REFRESH-INTERVAL;VALUE=DURATION:PT1H
X-Robots-Tag:noindex
X-PUBLISHED-TTL:PT1H
BEGIN:VTIMEZONE
TZID:America/New_York
BEGIN:DAYLIGHT
TZOFFSETFROM:-0500
TZOFFSETTO:-0400
TZNAME:EDT
DTSTART:20240310T070000
END:DAYLIGHT
BEGIN:STANDARD
TZOFFSETFROM:-0400
TZOFFSETTO:-0500
TZNAME:EST
DTSTART:20241103T060000
END:STANDARD
BEGIN:DAYLIGHT
TZOFFSETFROM:-0500
TZOFFSETTO:-0400
TZNAME:EDT
DTSTART:20250309T070000
END:DAYLIGHT
BEGIN:STANDARD
TZOFFSETFROM:-0400
TZOFFSETTO:-0500
TZNAME:EST
DTSTART:20251102T060000
END:STANDARD
BEGIN:DAYLIGHT
TZOFFSETFROM:-0500
TZOFFSETTO:-0400
TZNAME:EDT
DTSTART:20260308T070000
END:DAYLIGHT
BEGIN:STANDARD
TZOFFSETFROM:-0400
TZOFFSETTO:-0500
TZNAME:EST
DTSTART:20261101T060000
END:STANDARD
END:VTIMEZONE
BEGIN:VEVENT
DTSTART;TZID=America/New_York:20250830T200000
DTEND;TZID=America/New_York:20250830T211500
DTSTAMP:20260424T121728
CREATED:20250402T134053Z
LAST-MODIFIED:20250402T134316Z
UID:10000420-1756584000-1756588500@www.rehobothbeachde.gov
SUMMARY:Summer Concert Series: Parrotbeach
DESCRIPTION:As part of the Rehoboth Beach Bandstand Summer Concert Series\, Parrotbeach will perform Saturday\, August 30.
URL:https://www.rehobothbeachde.gov/event/summer-concert-series-parrotbeach/
LOCATION:Bandstand\, DE
CATEGORIES:Summer Concert Series
GEO:38.71662785;-75.076529236189
END:VEVENT
BEGIN:VEVENT
DTSTART;TZID=America/New_York:20250829T200000
DTEND;TZID=America/New_York:20250829T211500
DTSTAMP:20260424T121728
CREATED:20250402T133927Z
LAST-MODIFIED:20250402T133927Z
UID:10000419-1756497600-1756502100@www.rehobothbeachde.gov
SUMMARY:Summer Concert Series: Still Surfin'
DESCRIPTION:As part of the Rehoboth Beach Bandstand Summer Concert Series\, Still Surfin – A Beach Boys Tribute Band will perform Friday\, August 29.
URL:https://www.rehobothbeachde.gov/event/summer-concert-series-still-surfin/
LOCATION:Bandstand\, DE
CATEGORIES:Summer Concert Series
GEO:38.71662785;-75.076529236189
END:VEVENT
BEGIN:VEVENT
DTSTART;TZID=America/New_York:20250824T200000
DTEND;TZID=America/New_York:20250824T211500
DTSTAMP:20260424T121728
CREATED:20250402T133810Z
LAST-MODIFIED:20250402T133810Z
UID:10000418-1756065600-1756070100@www.rehobothbeachde.gov
SUMMARY:Summer Concert Series: Tim Laushey Orchestra
DESCRIPTION:As part of the Rehoboth Beach Bandstand Summer Concert Series\, the Tim Laushey Orchestra will perform Sunday\, August 24.
URL:https://www.rehobothbeachde.gov/event/summer-concert-series-tim-laushey-orchestra/
LOCATION:Bandstand\, DE
CATEGORIES:Summer Concert Series
GEO:38.71662785;-75.076529236189
END:VEVENT
BEGIN:VEVENT
DTSTART;TZID=America/New_York:20250823T200000
DTEND;TZID=America/New_York:20250823T213000
DTSTAMP:20260424T121728
CREATED:20250402T133644Z
LAST-MODIFIED:20250402T133644Z
UID:10000417-1755979200-1755984600@www.rehobothbeachde.gov
SUMMARY:Summer Concert Series: Shot Thru the Heart
DESCRIPTION:As part of the Rehoboth Beach Bandstand Summer Concert Series\, Shot Thru the Heart – The Bon Jovi Experience will perform Saturday\, August 23.
URL:https://www.rehobothbeachde.gov/event/summer-concert-series-shot-thru-the-heart/
LOCATION:Bandstand\, DE
CATEGORIES:Summer Concert Series
GEO:38.71662785;-75.076529236189
END:VEVENT
BEGIN:VEVENT
DTSTART;TZID=America/New_York:20250822T200000
DTEND;TZID=America/New_York:20250822T211500
DTSTAMP:20260424T121728
CREATED:20250402T132606Z
LAST-MODIFIED:20250402T133502Z
UID:10000416-1755892800-1755897300@www.rehobothbeachde.gov
SUMMARY:Summer Concert Series: US Air Force Band Max Impact
DESCRIPTION:As part of the Rehoboth Beach Bandstand Summer Concert Series\, the US Air Force Band\, Max Impact\, will perform Friday\, August 22.
URL:https://www.rehobothbeachde.gov/event/summer-concert-series-us-air-force-band-max-impact/
LOCATION:Bandstand\, DE
CATEGORIES:Summer Concert Series
GEO:38.71662785;-75.076529236189
END:VEVENT
BEGIN:VEVENT
DTSTART;TZID=America/New_York:20250817T200000
DTEND;TZID=America/New_York:20250817T211500
DTSTAMP:20260424T121728
CREATED:20250402T132441Z
LAST-MODIFIED:20250402T132441Z
UID:10000415-1755460800-1755465300@www.rehobothbeachde.gov
SUMMARY:Summer Concert Series: The Fabulous Greaseband
DESCRIPTION:As part of the Rehoboth Beach Bandstand Summer Concert Series\, The Fabulous Greaseband will perform Sunday\, August 17
URL:https://www.rehobothbeachde.gov/event/summer-concert-series-the-fabulous-greaseband/
LOCATION:Bandstand\, DE
CATEGORIES:Summer Concert Series
GEO:38.71662785;-75.076529236189
END:VEVENT
BEGIN:VEVENT
DTSTART;TZID=America/New_York:20250816T200000
DTEND;TZID=America/New_York:20250816T211500
DTSTAMP:20260424T121728
CREATED:20250402T132229Z
LAST-MODIFIED:20250402T132229Z
UID:10000414-1755374400-1755378900@www.rehobothbeachde.gov
SUMMARY:Summer Concert Series: The Sensational Soul Cruisers
DESCRIPTION:As part of the Rehoboth Beach Bandstand Summer Concert Series\, The Sensational Soul Cruisers will perform Saturday\, August 16.
URL:https://www.rehobothbeachde.gov/event/summer-concert-series-the-sensational-soul-cruisers/
LOCATION:Bandstand\, DE
CATEGORIES:Summer Concert Series
GEO:38.71662785;-75.076529236189
END:VEVENT
BEGIN:VEVENT
DTSTART;TZID=America/New_York:20250815T200000
DTEND;TZID=America/New_York:20250815T211500
DTSTAMP:20260424T121728
CREATED:20250402T132027Z
LAST-MODIFIED:20250402T132120Z
UID:10000413-1755288000-1755292500@www.rehobothbeachde.gov
SUMMARY:Summer Concert Series: Satisfaction
DESCRIPTION:As part of the Rehoboth Beach Bandstand Summer Concert Series\, Satisfaction – The International Rolling Stones Tribute Show will perform Friday\, August 15.
URL:https://www.rehobothbeachde.gov/event/summer-concert-series-satisfaction/
LOCATION:Bandstand\, DE
CATEGORIES:Summer Concert Series
GEO:38.71662785;-75.076529236189
END:VEVENT
BEGIN:VEVENT
DTSTART;TZID=America/New_York:20250810T200000
DTEND;TZID=America/New_York:20250810T211500
DTSTAMP:20260424T121728
CREATED:20250401T171944Z
LAST-MODIFIED:20250402T135050Z
UID:10000412-1754856000-1754860500@www.rehobothbeachde.gov
SUMMARY:Summer Concert Series: Thurston Howell
DESCRIPTION:As part of the Rehoboth Beach Bandstand Summer Concert Series\, Thurston Howell – A Premier Yacht Rock Spectacular will perform Sunday\, August 10.
URL:https://www.rehobothbeachde.gov/event/thurston-howell/
LOCATION:Bandstand\, DE
CATEGORIES:Summer Concert Series
GEO:38.71662785;-75.076529236189
END:VEVENT
BEGIN:VEVENT
DTSTART;TZID=America/New_York:20250809T200000
DTEND;TZID=America/New_York:20250809T211500
DTSTAMP:20260424T121728
CREATED:20250401T171837Z
LAST-MODIFIED:20250402T135043Z
UID:10000411-1754769600-1754774100@www.rehobothbeachde.gov
SUMMARY:Summer Concert Series: Yellow Brick Road - A Tribute to Elton John
DESCRIPTION:As part of the Rehoboth Beach Bandstand Summer Concert Series\, Yellow Brick Road – A Tribute to Elton John will perform on Saturday\, August 9.
URL:https://www.rehobothbeachde.gov/event/yellow-brick-road-a-tribute-to-elton-john/
LOCATION:Bandstand\, DE
CATEGORIES:Summer Concert Series
GEO:38.71662785;-75.076529236189
END:VEVENT
BEGIN:VEVENT
DTSTART;TZID=America/New_York:20250808T200000
DTEND;TZID=America/New_York:20250808T211500
DTSTAMP:20260424T121728
CREATED:20250401T171653Z
LAST-MODIFIED:20250402T135036Z
UID:10000410-1754683200-1754687700@www.rehobothbeachde.gov
SUMMARY:Summer Concert Series: Charlie and the CoolTones
DESCRIPTION:As part of the Rehoboth Beach Bandstand Summer Concert Series\, Charlie and the CoolTones will perform Friday\, August 8.
URL:https://www.rehobothbeachde.gov/event/charlie-and-the-cooltones/
LOCATION:Bandstand\, DE
CATEGORIES:Summer Concert Series
GEO:38.71662785;-75.076529236189
END:VEVENT
BEGIN:VEVENT
DTSTART;TZID=America/New_York:20250803T200000
DTEND;TZID=America/New_York:20250803T211500
DTSTAMP:20260424T121728
CREATED:20250401T171551Z
LAST-MODIFIED:20250402T135028Z
UID:10000409-1754251200-1754255700@www.rehobothbeachde.gov
SUMMARY:Summer Concert Series: The Heat and the Cold Sweat Horns
DESCRIPTION:As part of the Rehoboth Beach Bandstand Summer Concert Series\, The Heat and the Cold Sweat Horns will perform on Sunday\, August 3.
URL:https://www.rehobothbeachde.gov/event/the-heat-and-the-cold-sweat-horns/
LOCATION:Bandstand\, DE
CATEGORIES:Summer Concert Series
GEO:38.71662785;-75.076529236189
END:VEVENT
BEGIN:VEVENT
DTSTART;TZID=America/New_York:20250802T200000
DTEND;TZID=America/New_York:20250802T211500
DTSTAMP:20260424T121728
CREATED:20250401T171029Z
LAST-MODIFIED:20250402T135019Z
UID:10000408-1754164800-1754169300@www.rehobothbeachde.gov
SUMMARY:Summer Concert Series: High Noon
DESCRIPTION:As part of the Rehoboth Beach Bandstand Summer Concert Series\, High Noon: A tribute to Lynyrd Skynyrd and Southern Rock will perform on Saturday\, August 2.
URL:https://www.rehobothbeachde.gov/event/high-noon/
LOCATION:Bandstand\, DE
CATEGORIES:Summer Concert Series
GEO:38.71662785;-75.076529236189
END:VEVENT
BEGIN:VEVENT
DTSTART;TZID=America/New_York:20250801T200000
DTEND;TZID=America/New_York:20250801T211500
DTSTAMP:20260424T121728
CREATED:20250401T170914Z
LAST-MODIFIED:20250402T135013Z
UID:10000407-1754078400-1754082900@www.rehobothbeachde.gov
SUMMARY:Summer Concert Series: Double Vision - The Foreigner Experience
DESCRIPTION:As part of the Rehoboth Beach Bandstand Summer Concert Series\, Double Vision – The Foreigner Experience will perform on Friday\, August 1.
URL:https://www.rehobothbeachde.gov/event/double-vision-the-foreigner-experience/
LOCATION:Bandstand\, DE
CATEGORIES:Summer Concert Series
GEO:38.71662785;-75.076529236189
END:VEVENT
BEGIN:VEVENT
DTSTART;TZID=America/New_York:20250727T200000
DTEND;TZID=America/New_York:20250727T211500
DTSTAMP:20260424T121728
CREATED:20250401T170754Z
LAST-MODIFIED:20250402T135006Z
UID:10000406-1753646400-1753650900@www.rehobothbeachde.gov
SUMMARY:Summer Concert Series: Rainbow Full of Sound
DESCRIPTION:As part of the Rehoboth Beach Bandstand Summer Concert Series\, Rainbow Full of Sound will perform on Sunday\, July 27.
URL:https://www.rehobothbeachde.gov/event/rainbow-full-of-sound/
LOCATION:Bandstand\, DE
CATEGORIES:Summer Concert Series
GEO:38.71662785;-75.076529236189
END:VEVENT
BEGIN:VEVENT
DTSTART;TZID=America/New_York:20250726T200000
DTEND;TZID=America/New_York:20250726T211500
DTSTAMP:20260424T121728
CREATED:20250401T170028Z
LAST-MODIFIED:20250402T134959Z
UID:10000403-1753560000-1753564500@www.rehobothbeachde.gov
SUMMARY:Summer Concert Series: The New Romance
DESCRIPTION:As part of the Rehoboth Beach Bandstand Summer Concert Series\, The New Romance: The Ultimate 80’s Tribute Band will perform Saturday\, July 26.
URL:https://www.rehobothbeachde.gov/event/the-new-romance/
LOCATION:Bandstand\, DE
CATEGORIES:Summer Concert Series
GEO:38.71662785;-75.076529236189
END:VEVENT
BEGIN:VEVENT
DTSTART;TZID=America/New_York:20250725T200000
DTEND;TZID=America/New_York:20250725T211500
DTSTAMP:20260424T121728
CREATED:20250401T170521Z
LAST-MODIFIED:20250402T134952Z
UID:10000404-1753473600-1753478100@www.rehobothbeachde.gov
SUMMARY:Summer Concert Series: Lower Case Blues
DESCRIPTION:As part of the Rehoboth Beach Bandstand Summer Concert Series\, Lower Case Blues will perform on Friday\, July 25.
URL:https://www.rehobothbeachde.gov/event/lower-case-blues/
LOCATION:Bandstand\, DE
CATEGORIES:Summer Concert Series
GEO:38.71662785;-75.076529236189
END:VEVENT
BEGIN:VEVENT
DTSTART;TZID=America/New_York:20250720T200000
DTEND;TZID=America/New_York:20250720T211500
DTSTAMP:20260424T121728
CREATED:20250401T170624Z
LAST-MODIFIED:20250527T172035Z
UID:10000405-1753041600-1753046100@www.rehobothbeachde.gov
SUMMARY:Summer Concert Series: Earth Jam
DESCRIPTION:As part of the Rehoboth Beach Bandstand Summer Concert Series\, Earth Jam will perform on Sunday\, July 20.
URL:https://www.rehobothbeachde.gov/event/earth-jam/
LOCATION:Bandstand\, DE
CATEGORIES:Summer Concert Series
GEO:38.71662785;-75.076529236189
END:VEVENT
BEGIN:VEVENT
DTSTART;TZID=America/New_York:20250719T200000
DTEND;TZID=America/New_York:20250719T211500
DTSTAMP:20260424T121728
CREATED:20250401T165900Z
LAST-MODIFIED:20250402T134946Z
UID:10000402-1752955200-1752959700@www.rehobothbeachde.gov
SUMMARY:Summer Concert Series: The Seven Wonders - A Tribute to Fleetwood Mac
DESCRIPTION:As part of the Rehoboth Beach Bandstand Summer Concert Series\, The Seven Wonders – A Tribute to Fleetwood Mac will perform on Saturday\, July 19.
URL:https://www.rehobothbeachde.gov/event/the-seven-wonders-a-tribute-to-fleetwood-mac/
LOCATION:Bandstand\, DE
CATEGORIES:Summer Concert Series
GEO:38.71662785;-75.076529236189
END:VEVENT
BEGIN:VEVENT
DTSTART;TZID=America/New_York:20250718T200000
DTEND;TZID=America/New_York:20250718T211500
DTSTAMP:20260424T121728
CREATED:20250401T165654Z
LAST-MODIFIED:20250402T134933Z
UID:10000401-1752868800-1752873300@www.rehobothbeachde.gov
SUMMARY:Summer Concert Series: BOSTYX - The Ultimate Boston Styx Tribute
DESCRIPTION:As part of the Rehoboth Beach Bandstand Summer Concert Series\, BOSTYX – The Ultimate Boston Styx Tribute will perform on Friday\, July 18.
URL:https://www.rehobothbeachde.gov/event/bostyx-the-ultimate-boston-styx-tribute/
LOCATION:Bandstand\, DE
CATEGORIES:Summer Concert Series
GEO:38.71662785;-75.076529236189
END:VEVENT
BEGIN:VEVENT
DTSTART;TZID=America/New_York:20250713T200000
DTEND;TZID=America/New_York:20250713T211500
DTSTAMP:20260424T121728
CREATED:20250401T165534Z
LAST-MODIFIED:20250402T134925Z
UID:10000400-1752436800-1752441300@www.rehobothbeachde.gov
SUMMARY:Summer Concert Series: Studio Two - The Early Beatles Tribute
DESCRIPTION:As part of the Rehoboth Beach Bandstand Summer Concert Series\, Studio Two – The Early Beatles Tribute will perform on Sunday\, July 13.
URL:https://www.rehobothbeachde.gov/event/studio-two-the-early-beatles-tribute/
LOCATION:Bandstand\, DE
CATEGORIES:Summer Concert Series
GEO:38.71662785;-75.076529236189
END:VEVENT
BEGIN:VEVENT
DTSTART;TZID=America/New_York:20250712T200000
DTEND;TZID=America/New_York:20250712T211500
DTSTAMP:20260424T121728
CREATED:20250401T165303Z
LAST-MODIFIED:20250402T134917Z
UID:10000399-1752350400-1752354900@www.rehobothbeachde.gov
SUMMARY:Summer Concert Series: CryBaby - The Janis Joplin Experience
DESCRIPTION:As part of the Rehoboth Beach Bandstand Summer Concert Series\, CryBaby – The Janis Joplin Experience will perform on Saturday\, July 12.
URL:https://www.rehobothbeachde.gov/event/crybaby-the-janis-joplin-experience/
LOCATION:Bandstand\, DE
CATEGORIES:Summer Concert Series
GEO:38.71662785;-75.076529236189
END:VEVENT
BEGIN:VEVENT
DTSTART;TZID=America/New_York:20250711T200000
DTEND;TZID=America/New_York:20250711T211500
DTSTAMP:20260424T121728
CREATED:20250401T165145Z
LAST-MODIFIED:20250402T134907Z
UID:10000398-1752264000-1752268500@www.rehobothbeachde.gov
SUMMARY:Summer Concert Series: The Jersey Tenors
DESCRIPTION:As part of the Rehoboth Beach Bandstand Summer Concert Series\, The Jersey Tenors will be performing on Friday\, July 11.
URL:https://www.rehobothbeachde.gov/event/the-jersey-tenors/
LOCATION:Bandstand\, DE
CATEGORIES:Summer Concert Series
GEO:38.71662785;-75.076529236189
END:VEVENT
BEGIN:VEVENT
DTSTART;TZID=America/New_York:20250706T200000
DTEND;TZID=America/New_York:20250706T211500
DTSTAMP:20260424T121728
CREATED:20250401T165023Z
LAST-MODIFIED:20250402T134902Z
UID:10000397-1751832000-1751836500@www.rehobothbeachde.gov
SUMMARY:Summer Concert Series: Central City Orchestra
DESCRIPTION:As part of the Rehoboth Beach Bandstand Summer Concert Series\, Central City Orchestra will be performing Sunday\, July 6.
URL:https://www.rehobothbeachde.gov/event/central-city-orchestra/
LOCATION:Bandstand\, DE
CATEGORIES:Summer Concert Series
GEO:38.71662785;-75.076529236189
END:VEVENT
BEGIN:VEVENT
DTSTART;TZID=America/New_York:20250705T200000
DTEND;TZID=America/New_York:20250705T230000
DTSTAMP:20260424T121728
CREATED:20250401T164651Z
LAST-MODIFIED:20250402T134856Z
UID:10000395-1751745600-1751756400@www.rehobothbeachde.gov
SUMMARY:Summer Concert Series: The Funsters
DESCRIPTION:As part of the Rehoboth Beach Bandstand Summer Concert Series\, The Funsters will perform on Saturday\, July 4th before and after fireworks.
URL:https://www.rehobothbeachde.gov/event/the-funsters/
LOCATION:Bandstand\, DE
CATEGORIES:Summer Concert Series
GEO:38.71662785;-75.076529236189
END:VEVENT
BEGIN:VEVENT
DTSTART;TZID=America/New_York:20250704T200000
DTEND;TZID=America/New_York:20250704T211500
DTSTAMP:20260424T121728
CREATED:20250401T163848Z
LAST-MODIFIED:20250402T134849Z
UID:10000394-1751659200-1751663700@www.rehobothbeachde.gov
SUMMARY:Summer Concert Series: US Navy Band Commodores
DESCRIPTION:Celebrate July 4th with the US Navy Band Commodores\, as part of the Rehoboth Beach Bandstand Summer Concert Series.
URL:https://www.rehobothbeachde.gov/event/us-navy-band-commodores/
LOCATION:Bandstand\, DE
CATEGORIES:Summer Concert Series
GEO:38.71662785;-75.076529236189
END:VEVENT
BEGIN:VEVENT
DTSTART;TZID=America/New_York:20250703T200000
DTEND;TZID=America/New_York:20250703T211500
DTSTAMP:20260424T121728
CREATED:20250401T163740Z
LAST-MODIFIED:20250402T134843Z
UID:10000393-1751572800-1751577300@www.rehobothbeachde.gov
SUMMARY:Summer Concert Series: US Army Field Band Six-String Soldiers
DESCRIPTION:As part of the Rehoboth Beach Bandstand Summer Concert Series\, the US Army Field Band Six-String Soldiers will perform on Thursday\, July 3.
URL:https://www.rehobothbeachde.gov/event/us-army-field-band-six-string-soldiers/
LOCATION:Bandstand\, DE
CATEGORIES:Summer Concert Series
GEO:38.71662785;-75.076529236189
END:VEVENT
BEGIN:VEVENT
DTSTART;TZID=America/New_York:20250629T200000
DTEND;TZID=America/New_York:20250629T211500
DTSTAMP:20260424T121728
CREATED:20250401T163513Z
LAST-MODIFIED:20250402T134836Z
UID:10000392-1751227200-1751231700@www.rehobothbeachde.gov
SUMMARY:Summer Concert Series: Rock This Town Orchestra
DESCRIPTION:As part of the Rehoboth Beach Bandstand Summer Concert Series\, Rock This Town Orchestra will perform on Saturday\, June 29.
URL:https://www.rehobothbeachde.gov/event/rock-this-town-orchestra/
LOCATION:Bandstand\, DE
CATEGORIES:Summer Concert Series
GEO:38.71662785;-75.076529236189
END:VEVENT
BEGIN:VEVENT
DTSTART;TZID=America/New_York:20250628T200000
DTEND;TZID=America/New_York:20250628T211500
DTSTAMP:20260424T121728
CREATED:20250401T163327Z
LAST-MODIFIED:20250402T134829Z
UID:10000391-1751140800-1751145300@www.rehobothbeachde.gov
SUMMARY:Summer Concert Series: Jesse Garron - Tribute to Elvis
DESCRIPTION:As part of the Rehoboth Beach Bandstand Summer Concert Series\, Jessie Garron will perform on Saturday June\, 28.
URL:https://www.rehobothbeachde.gov/event/jesse-garron-tribute-to-elvis/
LOCATION:Bandstand\, DE
CATEGORIES:Summer Concert Series
GEO:38.71662785;-75.076529236189
END:VEVENT
BEGIN:VEVENT
DTSTART;TZID=America/New_York:20250627T200000
DTEND;TZID=America/New_York:20250627T211500
DTSTAMP:20260424T121728
CREATED:20250401T164915Z
LAST-MODIFIED:20250402T134814Z
UID:10000396-1751054400-1751058900@www.rehobothbeachde.gov
SUMMARY:Summer Concert Series: Lights Out
DESCRIPTION:As part of the Rehoboth Beach Bandstand Summer Concert Series\, Lights Out will be performing Friday\, June 27.
URL:https://www.rehobothbeachde.gov/event/lights-out/
LOCATION:Bandstand\, DE
CATEGORIES:Summer Concert Series
GEO:38.71662785;-75.076529236189
END:VEVENT
END:VCALENDAR